BEGIN:VCALENDAR
VERSION:2.0
PRODID:-//Rathmullan Sailing and Watersports - ECPv6.15.20//NONSGML v1.0//EN
CALSCALE:GREGORIAN
METHOD:PUBLISH
X-WR-CALNAME:Rathmullan Sailing and Watersports
X-ORIGINAL-URL:https://rathmullansailingandwatersports.ie
X-WR-CALDESC:Events for Rathmullan Sailing and Watersports
REFRESH-INTERVAL;VALUE=DURATION:PT1H
X-Robots-Tag:noindex
X-PUBLISHED-TTL:PT1H
BEGIN:VTIMEZONE
TZID:UTC
BEGIN:STANDARD
TZOFFSETFROM:+0000
TZOFFSETTO:+0000
TZNAME:UTC
DTSTART:20240101T000000
END:STANDARD
END:VTIMEZONE
BEGIN:VEVENT
DTSTART;TZID=UTC:20250921T100000
DTEND;TZID=UTC:20250921T120000
DTSTAMP:20260425T191442
CREATED:20250413T145157Z
LAST-MODIFIED:20250413T145157Z
UID:3319-1758448800-1758456000@rathmullansailingandwatersports.ie
SUMMARY:Sunday Sailing
DESCRIPTION:
URL:https://rathmullansailingandwatersports.ie/event/sunday-sailing-23/
END:VEVENT
BEGIN:VEVENT
DTSTART;TZID=UTC:20250914T100000
DTEND;TZID=UTC:20250914T120000
DTSTAMP:20260425T191442
CREATED:20250413T145459Z
LAST-MODIFIED:20250413T145459Z
UID:3335-1757844000-1757851200@rathmullansailingandwatersports.ie
SUMMARY:Sunday Sail/Inch Cruise Option 3
DESCRIPTION:
URL:https://rathmullansailingandwatersports.ie/event/sunday-sail-inch-cruise-option-3/
END:VEVENT
BEGIN:VEVENT
DTSTART;TZID=UTC:20250907T100000
DTEND;TZID=UTC:20250907T200000
DTSTAMP:20260425T191442
CREATED:20250413T145134Z
LAST-MODIFIED:20250413T145134Z
UID:3317-1757239200-1757275200@rathmullansailingandwatersports.ie
SUMMARY:Sunday Sailing
DESCRIPTION:
URL:https://rathmullansailingandwatersports.ie/event/sunday-sailing-22/
END:VEVENT
BEGIN:VEVENT
DTSTART;TZID=UTC:20250827T180000
DTEND;TZID=UTC:20250827T200000
DTSTAMP:20260425T191442
CREATED:20250413T145057Z
LAST-MODIFIED:20250413T145057Z
UID:3315-1756317600-1756324800@rathmullansailingandwatersports.ie
SUMMARY:Team Racing Training/Mid Week Sail/Kayak
DESCRIPTION:
URL:https://rathmullansailingandwatersports.ie/event/team-racing-training-mid-week-sail-kayak-3/
END:VEVENT
BEGIN:VEVENT
DTSTART;TZID=UTC:20250824T100000
DTEND;TZID=UTC:20250824T120000
DTSTAMP:20260425T191442
CREATED:20250413T145031Z
LAST-MODIFIED:20250413T145031Z
UID:3313-1756029600-1756036800@rathmullansailingandwatersports.ie
SUMMARY:Sunday Sailing
DESCRIPTION:
URL:https://rathmullansailingandwatersports.ie/event/sunday-sailing-21/
END:VEVENT
BEGIN:VEVENT
DTSTART;TZID=UTC:20250820T180000
DTEND;TZID=UTC:20250820T200000
DTSTAMP:20260425T191442
CREATED:20250413T145004Z
LAST-MODIFIED:20250413T145004Z
UID:3311-1755712800-1755720000@rathmullansailingandwatersports.ie
SUMMARY:Team Racing Training/Mid Week Sail/Kayak
DESCRIPTION:
URL:https://rathmullansailingandwatersports.ie/event/team-racing-training-mid-week-sail-kayak-2/
END:VEVENT
BEGIN:VEVENT
DTSTART;TZID=UTC:20250817T100000
DTEND;TZID=UTC:20250817T120000
DTSTAMP:20260425T191442
CREATED:20250413T144938Z
LAST-MODIFIED:20250413T144938Z
UID:3309-1755424800-1755432000@rathmullansailingandwatersports.ie
SUMMARY:Treasure Hunt/Sunday Sail
DESCRIPTION:
URL:https://rathmullansailingandwatersports.ie/event/treasure-hunt-sunday-sail-3/
END:VEVENT
BEGIN:VEVENT
DTSTART;TZID=UTC:20250813T180000
DTEND;TZID=UTC:20250813T200000
DTSTAMP:20260425T191442
CREATED:20250413T144912Z
LAST-MODIFIED:20250413T144912Z
UID:3307-1755108000-1755115200@rathmullansailingandwatersports.ie
SUMMARY:Team Racing Training/Mid Week Sail/Kayak
DESCRIPTION:
URL:https://rathmullansailingandwatersports.ie/event/team-racing-training-mid-week-sail-kayak/
END:VEVENT
BEGIN:VEVENT
DTSTART;TZID=UTC:20250810T100000
DTEND;TZID=UTC:20250810T120000
DTSTAMP:20260425T191442
CREATED:20250413T144847Z
LAST-MODIFIED:20250413T144847Z
UID:3305-1754820000-1754827200@rathmullansailingandwatersports.ie
SUMMARY:Sunday sailing
DESCRIPTION:
URL:https://rathmullansailingandwatersports.ie/event/sunday-sailing-20/
END:VEVENT
BEGIN:VEVENT
DTSTART;TZID=UTC:20250809T160000
DTEND;TZID=UTC:20250809T180000
DTSTAMP:20260425T191442
CREATED:20250413T144703Z
LAST-MODIFIED:20250413T144703Z
UID:3302-1754755200-1754762400@rathmullansailingandwatersports.ie
SUMMARY:Ramelton Cruise Option 3 (Same as LSYC)
DESCRIPTION:
URL:https://rathmullansailingandwatersports.ie/event/ramelton-cruise-option-3-same-as-lsyc/
END:VEVENT
BEGIN:VEVENT
DTSTART;TZID=UTC:20250809T100000
DTEND;TZID=UTC:20250809T130000
DTSTAMP:20260425T191442
CREATED:20250716T112124Z
LAST-MODIFIED:20250716T112124Z
UID:3455-1754733600-1754744400@rathmullansailingandwatersports.ie
SUMMARY:Try Sailing Day
DESCRIPTION:
URL:https://rathmullansailingandwatersports.ie/event/try-sailing-day/
END:VEVENT
BEGIN:VEVENT
DTSTART;TZID=UTC:20250806T180000
DTEND;TZID=UTC:20250806T200000
DTSTAMP:20260425T191442
CREATED:20250413T144639Z
LAST-MODIFIED:20250413T144639Z
UID:3300-1754503200-1754510400@rathmullansailingandwatersports.ie
SUMMARY:Mid Week Sail/Kayak
DESCRIPTION:
URL:https://rathmullansailingandwatersports.ie/event/mid-week-sail-kayak/
END:VEVENT
BEGIN:VEVENT
DTSTART;TZID=UTC:20250804T120000
DTEND;TZID=UTC:20250804T140000
DTSTAMP:20260425T191442
CREATED:20250413T144615Z
LAST-MODIFIED:20250413T144615Z
UID:3298-1754308800-1754316000@rathmullansailingandwatersports.ie
SUMMARY:Rathmullan Regatta/Dan Joe Cup
DESCRIPTION:
URL:https://rathmullansailingandwatersports.ie/event/rathmullan-regatta-dan-joe-cup/
END:VEVENT
BEGIN:VEVENT
DTSTART;TZID=UTC:20250803T100000
DTEND;TZID=UTC:20250803T120000
DTSTAMP:20260425T191442
CREATED:20250413T144543Z
LAST-MODIFIED:20250413T144543Z
UID:3296-1754215200-1754222400@rathmullansailingandwatersports.ie
SUMMARY:Inch Cruise Option 2/Sunday Sail
DESCRIPTION:
URL:https://rathmullansailingandwatersports.ie/event/inch-cruise-option-2-sunday-sail/
END:VEVENT
BEGIN:VEVENT
DTSTART;TZID=UTC:20250730T180000
DTEND;TZID=UTC:20250730T200000
DTSTAMP:20260425T191442
CREATED:20250413T144517Z
LAST-MODIFIED:20250413T144517Z
UID:3294-1753898400-1753905600@rathmullansailingandwatersports.ie
SUMMARY:Midweek Sail/Kayak
DESCRIPTION:
URL:https://rathmullansailingandwatersports.ie/event/midweek-sail-kayak-7/
END:VEVENT
BEGIN:VEVENT
DTSTART;TZID=UTC:20250727T100000
DTEND;TZID=UTC:20250727T120000
DTSTAMP:20260425T191442
CREATED:20250413T144455Z
LAST-MODIFIED:20250413T144455Z
UID:3292-1753610400-1753617600@rathmullansailingandwatersports.ie
SUMMARY:White Harte Series 4
DESCRIPTION:
URL:https://rathmullansailingandwatersports.ie/event/white-harte-series-4-2/
END:VEVENT
BEGIN:VEVENT
DTSTART;TZID=UTC:20250726T160000
DTEND;TZID=UTC:20250726T220000
DTSTAMP:20260425T191442
CREATED:20250413T144425Z
LAST-MODIFIED:20250413T144425Z
UID:3290-1753545600-1753567200@rathmullansailingandwatersports.ie
SUMMARY:Ramelton Cruise Option 2
DESCRIPTION:
URL:https://rathmullansailingandwatersports.ie/event/ramelton-cruise-option-2/
END:VEVENT
BEGIN:VEVENT
DTSTART;TZID=UTC:20250723T180000
DTEND;TZID=UTC:20250723T200000
DTSTAMP:20260425T191442
CREATED:20250413T144356Z
LAST-MODIFIED:20250413T144356Z
UID:3288-1753293600-1753300800@rathmullansailingandwatersports.ie
SUMMARY:Midweek Sail/Kayak
DESCRIPTION:
URL:https://rathmullansailingandwatersports.ie/event/midweek-sail-kayak-6/
END:VEVENT
BEGIN:VEVENT
DTSTART;TZID=UTC:20250720T100000
DTEND;TZID=UTC:20250720T120000
DTSTAMP:20260425T191442
CREATED:20250413T144328Z
LAST-MODIFIED:20250413T144328Z
UID:3286-1753005600-1753012800@rathmullansailingandwatersports.ie
SUMMARY:White Harte Series 3
DESCRIPTION:
URL:https://rathmullansailingandwatersports.ie/event/white-harte-series-3-2/
END:VEVENT
BEGIN:VEVENT
DTSTART;TZID=UTC:20250716T180000
DTEND;TZID=UTC:20250716T200000
DTSTAMP:20260425T191442
CREATED:20250413T144305Z
LAST-MODIFIED:20250413T144305Z
UID:3284-1752688800-1752696000@rathmullansailingandwatersports.ie
SUMMARY:Midweek Sail/Kayak
DESCRIPTION:
URL:https://rathmullansailingandwatersports.ie/event/midweek-sail-kayak-5/
END:VEVENT
BEGIN:VEVENT
DTSTART;TZID=UTC:20250713T100000
DTEND;TZID=UTC:20250713T120000
DTSTAMP:20260425T191442
CREATED:20250413T144236Z
LAST-MODIFIED:20250413T144236Z
UID:3282-1752400800-1752408000@rathmullansailingandwatersports.ie
SUMMARY:White Harte Series 2
DESCRIPTION:
URL:https://rathmullansailingandwatersports.ie/event/white-harte-series-2-2/
END:VEVENT
BEGIN:VEVENT
DTSTART;TZID=UTC:20250712T160000
DTEND;TZID=UTC:20250712T220000
DTSTAMP:20260425T191442
CREATED:20250413T144209Z
LAST-MODIFIED:20250413T144209Z
UID:3280-1752336000-1752357600@rathmullansailingandwatersports.ie
SUMMARY:Ramelton Cruise Option 1/Buncrana Cruise Option 2
DESCRIPTION:
URL:https://rathmullansailingandwatersports.ie/event/ramelton-cruise-option-1-buncrana-cruise-option-2/
END:VEVENT
BEGIN:VEVENT
DTSTART;TZID=UTC:20250709T180000
DTEND;TZID=UTC:20250709T200000
DTSTAMP:20260425T191442
CREATED:20250413T144133Z
LAST-MODIFIED:20250413T144133Z
UID:3278-1752084000-1752091200@rathmullansailingandwatersports.ie
SUMMARY:Midweek Sail/Kayak
DESCRIPTION:
URL:https://rathmullansailingandwatersports.ie/event/midweek-sail-kayak-4/
END:VEVENT
BEGIN:VEVENT
DTSTART;TZID=UTC:20250706T100000
DTEND;TZID=UTC:20250706T120000
DTSTAMP:20260425T191442
CREATED:20250413T144059Z
LAST-MODIFIED:20250413T144059Z
UID:3276-1751796000-1751803200@rathmullansailingandwatersports.ie
SUMMARY:White Harte Series 1
DESCRIPTION:
URL:https://rathmullansailingandwatersports.ie/event/white-harte-series-1-2/
END:VEVENT
BEGIN:VEVENT
DTSTART;TZID=UTC:20250702T180000
DTEND;TZID=UTC:20250702T200000
DTSTAMP:20260425T191442
CREATED:20250413T144033Z
LAST-MODIFIED:20250413T144033Z
UID:3274-1751479200-1751486400@rathmullansailingandwatersports.ie
SUMMARY:Midweek Sail/Kayak
DESCRIPTION:
URL:https://rathmullansailingandwatersports.ie/event/midweek-sail-kayak-3/
END:VEVENT
BEGIN:VEVENT
DTSTART;TZID=UTC:20250629T100000
DTEND;TZID=UTC:20250629T130000
DTSTAMP:20260425T191442
CREATED:20250413T144003Z
LAST-MODIFIED:20250413T144003Z
UID:3272-1751191200-1751202000@rathmullansailingandwatersports.ie
SUMMARY:Macamish Cruise Option 2/Sunday Sail
DESCRIPTION:
URL:https://rathmullansailingandwatersports.ie/event/macamish-cruise-option-2-sunday-sail/
END:VEVENT
BEGIN:VEVENT
DTSTART;TZID=UTC:20250625T180000
DTEND;TZID=UTC:20250625T200000
DTSTAMP:20260425T191442
CREATED:20250413T143940Z
LAST-MODIFIED:20250413T143940Z
UID:3270-1750874400-1750881600@rathmullansailingandwatersports.ie
SUMMARY:Midweek Series 4/Kayak
DESCRIPTION:
URL:https://rathmullansailingandwatersports.ie/event/midweek-series-4-kayak/
END:VEVENT
BEGIN:VEVENT
DTSTART;TZID=UTC:20250622T100000
DTEND;TZID=UTC:20250622T120000
DTSTAMP:20260425T191442
CREATED:20250413T143916Z
LAST-MODIFIED:20250413T143916Z
UID:3268-1750586400-1750593600@rathmullansailingandwatersports.ie
SUMMARY:Sunday Sailing
DESCRIPTION:
URL:https://rathmullansailingandwatersports.ie/event/sunday-sailing-19/
END:VEVENT
BEGIN:VEVENT
DTSTART;TZID=UTC:20250618T180000
DTEND;TZID=UTC:20250618T200000
DTSTAMP:20260425T191442
CREATED:20250413T143837Z
LAST-MODIFIED:20250413T143837Z
UID:3266-1750269600-1750276800@rathmullansailingandwatersports.ie
SUMMARY:Midweek Series 3/Kayak
DESCRIPTION:
URL:https://rathmullansailingandwatersports.ie/event/midweek-series-3-kayak/
END:VEVENT
BEGIN:VEVENT
DTSTART;TZID=UTC:20250615T100000
DTEND;TZID=UTC:20250615T130000
DTSTAMP:20260425T191442
CREATED:20250413T143817Z
LAST-MODIFIED:20250413T143817Z
UID:3264-1749981600-1749992400@rathmullansailingandwatersports.ie
SUMMARY:Macamish Cruise Option 1/Buncrana Cruise Option 1
DESCRIPTION:
URL:https://rathmullansailingandwatersports.ie/event/macamish-cruise-option-1-buncrana-cruise-option-1/
END:VEVENT
END:VCALENDAR